BEGIN:VCALENDAR
VERSION:2.0
PRODID:-//Spatzabrettle//Event//DE
BEGIN:VEVENT
UID:spatzabrettle-event-271@spatzabrettle.de
DTSTAMP:20260422T084711Z
DTSTART:20261114T200000
DTEND:20261114T230000
SUMMARY:Dagmar Schönleber – Endlich 50! · Spatzabrettle
LOCATION:Festhalle Schützingen
URL:https://www.spatzabrettle.de/eintrittskarten.php?event_id=271
END:VEVENT
END:VCALENDAR
