BEGIN:VCALENDAR
VERSION:2.0
PRODID:-//Spatzabrettle//Event//DE
BEGIN:VEVENT
UID:spatzabrettle-event-270@spatzabrettle.de
DTSTAMP:20260422T101134Z
DTSTART:20261017T200000
DTEND:20261017T230000
SUMMARY:Gunzi Heil – Gunzi Heil Solo · Spatzabrettle
LOCATION:Festhalle Schützingen
URL:https://www.spatzabrettle.de/eintrittskarten.php?event_id=270
END:VEVENT
END:VCALENDAR
