BEGIN:VCALENDAR
VERSION:2.0
PRODID:-//Spatzabrettle//Event//DE
BEGIN:VEVENT
UID:spatzabrettle-event-269@spatzabrettle.de
DTSTAMP:20260424T092714Z
DTSTART:20260919T200000
DTEND:20260919T230000
SUMMARY:Werner Koczwara – Am achten Tag schuf Gott den Rechtsanwalt · Spatzabrettle
LOCATION:Festhalle Schützingen
URL:https://www.spatzabrettle.de/eintrittskarten.php?event_id=269
END:VEVENT
END:VCALENDAR
